BEGIN:VCALENDAR
VERSION:2.0
PRODID:-//eventon.com NONSGML v1.0//EN
CALSCALE:GREGORIAN
METHOD:PUBLISH
BEGIN:VEVENT
UID:69e6e16cc992d
DTSTAMP:20260421T023108Z
DTSTART:20231214T220000Z
DTEND:20231215T000000Z
LOCATION:Newport Branch Library 116 S Washington Ave\,  Newport\,  WA 99156
SUMMARY:Tech Help
DESCRIPTION:Need some help with your tablet\,  laptop\,  or smartphone? Com
 e in for one-on-one assistance!\nhttps://pocld.org/events/tech-help/
URL:https://pocld.org/events/tech-help/
END:VEVENT
END:VCALENDAR