BEGIN:VCALENDAR
VERSION:2.0
PRODID:-//eventon.com NONSGML v1.0//EN
CALSCALE:GREGORIAN
METHOD:PUBLISH
BEGIN:VEVENT
UID:69e853d5ca4f7
DTSTAMP:20260422T045133Z
DTSTART:20231222T210000Z
DTEND:20231222T230000Z
LOCATION:Newport Branch Library 116 S Washington Ave\,  Newport\,  WA 99156
SUMMARY:Crafty Corner: Winter Wreaths
DESCRIPTION:We’ll be doing a fun craft every month\,  just for adults. Th
 is month we’ll be making adorable winter wreaths for the season.\nhttps:/
 /pocld.org/events/crafty-corner-winter-wreaths/
URL:https://pocld.org/events/crafty-corner-winter-wreaths/
END:VEVENT
END:VCALENDAR