BEGIN:VCALENDAR
VERSION:2.0
PRODID:-//eventon.com NONSGML v1.0//EN
CALSCALE:GREGORIAN
METHOD:PUBLISH
BEGIN:VEVENT
UID:69e6a429e03a7
DTSTAMP:20260420T220945Z
DTSTART:20240103T003000Z
DTEND:20240103T013000Z
LOCATION:Ione Branch Library 210 Blackwell St\,  Ione\,  WA 99139
SUMMARY:STEM Hour
DESCRIPTION:Join us as we do fun and easy STEM activities to unwind after a
  long day at school! This STEM hour we will be making floating fish.\nhttps
 ://pocld.org/events/stem-hour-8/
URL:https://pocld.org/events/stem-hour-8/
END:VEVENT
END:VCALENDAR