BEGIN:VCALENDAR
VERSION:2.0
PRODID:-//eventon.com NONSGML v1.0//EN
CALSCALE:GREGORIAN
METHOD:PUBLISH
BEGIN:VEVENT
UID:69e744aa5cbe6
DTSTAMP:20260421T093434Z
DTSTART:20240110T003000Z
DTEND:20240110T013000Z
LOCATION:Ione Branch Library 210 Blackwell St\,  Ione\,  WA 99139
SUMMARY:STEM Hour
DESCRIPTION:Join us as we do fun and easy STEM activities to unwind after a
  long day at school! This STEM hour we will be making a DIY compass.\nhttps
 ://pocld.org/events/stem-hour-7/
URL:https://pocld.org/events/stem-hour-7/
END:VEVENT
END:VCALENDAR