BEGIN:VCALENDAR
VERSION:2.0
PRODID:-//eventon.com NONSGML v1.0//EN
CALSCALE:GREGORIAN
METHOD:PUBLISH
BEGIN:VEVENT
UID:69e74d2e50ce9
DTSTAMP:20260421T101054Z
DTSTART:20240213T003000Z
DTEND:20240213T013000Z
LOCATION:Metalines Community Library 302 Park St\,  Metaline Falls\,  WA 99153
SUMMARY:STEM Hour
DESCRIPTION:Join us as we do fun and easy STEM activities to unwind after a
  long day at school! This STEM hour we will be making crystal stars.\nhttps
 ://pocld.org/events/stem-hour-10/
URL:https://pocld.org/events/stem-hour-10/
END:VEVENT
END:VCALENDAR