BEGIN:VCALENDAR
VERSION:2.0
PRODID:-//eventon.com NONSGML v1.0//EN
CALSCALE:GREGORIAN
METHOD:PUBLISH
BEGIN:VEVENT
UID:69ea059d3c15c
DTSTAMP:20260423T114221Z
DTSTART:20240227T003000Z
DTEND:20240227T013000Z
LOCATION:Metalines Community Library 302 Park St\,  Metaline Falls\,  WA 99153
SUMMARY:STEM Hour
DESCRIPTION:Join us as we do fun and easy STEM activities to unwind after a
  long day at school! This STEM hour we will be making catapults.\nhttps://p
 ocld.org/events/stem-hour-9/
URL:https://pocld.org/events/stem-hour-9/
END:VEVENT
END:VCALENDAR