BEGIN:VCALENDAR
VERSION:2.0
PRODID:-//eventon.com NONSGML v1.0//EN
CALSCALE:GREGORIAN
METHOD:PUBLISH
BEGIN:VEVENT
UID:69e739d9f361e
DTSTAMP:20260421T084825Z
DTSTART:20240115
DTEND:20240116
LOCATION:All Libraries
SUMMARY:Closed: MLK Jr. Day
DESCRIPTION:\nhttps://pocld.org/events/closed-mlk-jr-day/
URL:https://pocld.org/events/closed-mlk-jr-day/
END:VEVENT
END:VCALENDAR