BEGIN:VCALENDAR
VERSION:2.0
PRODID:-//eventon.com NONSGML v1.0//EN
CALSCALE:GREGORIAN
METHOD:PUBLISH
BEGIN:VEVENT
UID:69e7379d65437
DTSTAMP:20260421T083853Z
DTSTART:20240203T010000Z
DTEND:20240203T030000Z
LOCATION:Calispel Valley Library 107 S 1st Ave Cusick\,  WA 99119
SUMMARY:Card Games
DESCRIPTION:Join us to learn Plump and &#8220;Oh\,  C**p!&#8221; This is an
  after hours event and the library will be open for card games only. Adults
  only please.\nhttps://pocld.org/events/card-games/
URL:https://pocld.org/events/card-games/
END:VEVENT
END:VCALENDAR