BEGIN:VCALENDAR
VERSION:2.0
PRODID:-//eventon.com NONSGML v1.0//EN
CALSCALE:GREGORIAN
METHOD:PUBLISH
BEGIN:VEVENT
UID:69eb4980b4025
DTSTAMP:20260424T104416Z
DTSTART:20240304T140000Z
DTEND:20240304T170000Z
LOCATION:Newport Branch Library 116 S Washington Ave\,  Newport\,  WA 99156
SUMMARY:Minecraft Server Day: Adults
DESCRIPTION:Come build on our very own community server! Make new friends a
 nd create your masterpiece! Adults only on this day.\nhttps://pocld.org/eve
 nts/minecraft-server-day-adults/
URL:https://pocld.org/events/minecraft-server-day-adults/
END:VEVENT
END:VCALENDAR