BEGIN:VCALENDAR
VERSION:2.0
PRODID:-//eventon.com NONSGML v1.0//EN
CALSCALE:GREGORIAN
METHOD:PUBLISH
BEGIN:VEVENT
UID:69eb2db5b8f0f
DTSTAMP:20260424T084541Z
DTSTART:20240316T140000Z
DTEND:20240316T160000Z
LOCATION:Newport Branch Library 116 S Washington Ave\,  Newport\,  WA 99156
SUMMARY:Manga Book Club
DESCRIPTION:Choose a manga to read and give your recommendations to the gro
 up!\nhttps://pocld.org/events/manga-book-club/
URL:https://pocld.org/events/manga-book-club/
END:VEVENT
END:VCALENDAR