BEGIN:VCALENDAR
VERSION:2.0
PRODID:-//eventon.com NONSGML v1.0//EN
CALSCALE:GREGORIAN
METHOD:PUBLISH
BEGIN:VEVENT
UID:69e7301ef0d20
DTSTAMP:20260421T080654Z
DTSTART:20240307T110000Z
DTEND:20240307T120000Z
LOCATION:Ione Branch Library 210 Blackwell St\,  Ione\,  WA 99139
SUMMARY:National Pig Day Storytime
DESCRIPTION:We love pigs and can&#8217;t wait to celebrate! We will read so
 me fun stories about pigs and then we will be stuffing our very own piggie 
 plushies to take home. A reservation is required so you can be sure to get 
 your piggie!\nhttps://pocld.org/events/national-pig-day-storytime/
URL:https://pocld.org/events/national-pig-day-storytime/
END:VEVENT
END:VCALENDAR