BEGIN:VCALENDAR
VERSION:2.0
PRODID:-//eventon.com NONSGML v1.0//EN
CALSCALE:GREGORIAN
METHOD:PUBLISH
BEGIN:VEVENT
UID:69e9f62d694a7
DTSTAMP:20260423T103629Z
DTSTART:20240424T200000Z
DTEND:20240424T220000Z
LOCATION:Ione Branch Library 210 Blackwell St\,  Ione\,  WA 99139
SUMMARY:Writing Lab
DESCRIPTION:Unleash your creativity and enhance your career opportunities a
 t our library&#8217;s writing lab assistance hours! Let us help you tackle 
 that project on your desk\,  whether you&#8217;re writing the next great Am
 erican novel\,  updating your resume\,  or applying for a new opportunity. 
 **Staff do not have legal expertise and cannot[..]\nhttps://pocld.org/event
 s/writing-lab-5/
URL:https://pocld.org/events/writing-lab-5/
END:VEVENT
END:VCALENDAR