BEGIN:VCALENDAR
VERSION:2.0
PRODID:-//eventon.com NONSGML v1.0//EN
CALSCALE:GREGORIAN
METHOD:PUBLISH
BEGIN:VEVENT
UID:69ebbfbe5b412
DTSTAMP:20260424T190846Z
DTSTART:20240419T180000Z
DTEND:20240419T190000Z
LOCATION:Ione Branch Library 210 Blackwell St\,  Ione\,  WA 99139
SUMMARY:Storytime
DESCRIPTION:Bring your kiddos and we&#8217;ll read a story and then do a cr
 aft\,  play games or color together! At this storytime\,  we will look at s
 ome kids cookbooks and make something fun to snack on!\nhttps://pocld.org/e
 vents/storytime-211/
URL:https://pocld.org/events/storytime-211/
END:VEVENT
END:VCALENDAR