BEGIN:VCALENDAR
VERSION:2.0
PRODID:-//eventon.com NONSGML v1.0//EN
CALSCALE:GREGORIAN
METHOD:PUBLISH
BEGIN:VEVENT
UID:69ec96c524c37
DTSTAMP:20260425T102613Z
DTSTART:20240809T110000Z
DTEND:20240809T120000Z
LOCATION:Ione Branch Library 210 Blackwell St\,  Ione\,  WA 99139
SUMMARY:Storytime
DESCRIPTION:In August\,  we&#8217;ll pick a fun story to read every Friday 
 and then do a craft or project. This storytime\,  we&#8217;ll read Dragons 
 Love Tacos and do a taco-themed project. All ages are welcome!\nhttps://poc
 ld.org/events/storytime-141/
URL:https://pocld.org/events/storytime-141/
END:VEVENT
END:VCALENDAR