BEGIN:VCALENDAR
VERSION:2.0
PRODID:-//eventon.com NONSGML v1.0//EN
CALSCALE:GREGORIAN
METHOD:PUBLISH
BEGIN:VEVENT
UID:69e83b640bfcf
DTSTAMP:20260422T030716Z
DTSTART:20240625T170000Z
DTEND:20240625T180000Z
LOCATION:Newport Branch Library 116 S Washington Ave\,  Newport\,  WA 99156
SUMMARY:Storytime
DESCRIPTION:Join us at the Newport Public Library for stories\,  rhymes\,  
 songs and play while we learn and explore new topics!\nhttps://pocld.org/ev
 ents/storytime-219/
URL:https://pocld.org/events/storytime-219/
END:VEVENT
END:VCALENDAR