BEGIN:VCALENDAR
VERSION:2.0
PRODID:-//eventon.com NONSGML v1.0//EN
CALSCALE:GREGORIAN
METHOD:PUBLISH
BEGIN:VEVENT
UID:69ea2e712f123
DTSTAMP:20260423T143633Z
DTSTART:20241022T170000Z
DTEND:20241022T180000Z
LOCATION:Newport Branch Library 116 S Washington Ave\,  Newport\,  WA 99156
SUMMARY:Storytime
DESCRIPTION:Join us at the Newport Public Library for stories\,  rhymes\,  
 songs and play while we learn and explore new topics!\nhttps://pocld.org/ev
 ents/storytime-219/var/ri-35.l-L1
URL:https://pocld.org/events/storytime-219/var/ri-35.l-L1
END:VEVENT
END:VCALENDAR