BEGIN:VCALENDAR
VERSION:2.0
PRODID:-//eventon.com NONSGML v1.0//EN
CALSCALE:GREGORIAN
METHOD:PUBLISH
BEGIN:VEVENT
UID:69e822c7d5e2d
DTSTAMP:20260422T012215Z
DTSTART:20241217T180000Z
DTEND:20241217T190000Z
LOCATION:Newport Branch Library 116 S Washington Ave\,  Newport\,  WA 99156
SUMMARY:Storytime
DESCRIPTION:Join us at the Newport Public Library for stories\,  rhymes\,  
 songs and play while we learn and explore new topics!\nhttps://pocld.org/ev
 ents/storytime-219/var/ri-51.l-L1
URL:https://pocld.org/events/storytime-219/var/ri-51.l-L1
END:VEVENT
END:VCALENDAR