BEGIN:VCALENDAR
VERSION:2.0
PRODID:-//eventon.com NONSGML v1.0//EN
CALSCALE:GREGORIAN
METHOD:PUBLISH
BEGIN:VEVENT
UID:69e939b84fbc9
DTSTAMP:20260422T211224Z
DTSTART:20240628T170000Z
DTEND:20240628T180000Z
LOCATION:Newport Branch Library 116 S Washington Ave\,  Newport\,  WA 99156
SUMMARY:Dress to Represent
DESCRIPTION:Dress to Represent! Join us for a celebration of love\,  divers
 ity\,  and inclusion at our Pride Party! Engage in thought-provoking discus
 sions\,  share your favorite LGBTQ+ literature recommendations\,  and conne
 ct with fellow attendees who share your passion for equality and representa
 tion. Whether you identify as LGBTQ+ or are a passionate ally\, [..]\nhttps
 ://pocld.org/events/dress-to-represent/
URL:https://pocld.org/events/dress-to-represent/
END:VEVENT
END:VCALENDAR