BEGIN:VCALENDAR
VERSION:2.0
PRODID:-//eventon.com NONSGML v1.0//EN
CALSCALE:GREGORIAN
METHOD:PUBLISH
BEGIN:VEVENT
UID:69e9dde15c679
DTSTAMP:20260423T085249Z
DTSTART:20240627T100000Z
DTEND:20240627T110000Z
LOCATION:Newport Branch Library 116 S Washington Ave\,  Newport\,  WA 99156
SUMMARY:Didgeridoo Down Under
DESCRIPTION:Tyler Spencer&#8217;s Didgeridoo Down Under Show combines fu
 nky didgeridoo rhythms\,  worldly percussive beats\,  storytelling and au
 dience participation. The didgeridoo has been played Aboriginal Australia
 ns for at least 1500 years\,  and it&#8217;s known for its otherworldly sou
 nd. Tyler is a master didgeridoo player and crafter\,  based out of Newpo
 rt\,  Oregon. He has been performing\,  teaching and making didgeridoos f
 or 20+ years\,  and[..]\nhttps://pocld.org/events/didgeridoo-down-under/
URL:https://pocld.org/events/didgeridoo-down-under/
END:VEVENT
END:VCALENDAR