BEGIN:VCALENDAR
VERSION:2.0
PRODID:-//eventon.com NONSGML v1.0//EN
CALSCALE:GREGORIAN
METHOD:PUBLISH
BEGIN:VEVENT
UID:69eb36381b675
DTSTAMP:20260424T092200Z
DTSTART:20240627T153000Z
DTEND:20240627T163000Z
LOCATION:Metalines Community Library 302 Park St\,  Metaline Falls\,  WA 99153
SUMMARY:Didgeridoo Down Under
DESCRIPTION:Tyler Spencer&#8217;s Didgeridoo Down Under Show combines fu
 nky didgeridoo rhythms\,  worldly percussive beats\,  storytelling and au
 dience participation. The didgeridoo has been played Aboriginal Australia
 ns for at least 1500 years\,  and it&#8217;s known for its otherworldly sou
 nd. Tyler is a master didgeridoo player and crafter\,  based out of Newpo
 rt\,  Oregon. He has been performing\,  teaching and making didgeridoos f
 or 20+ years\,  and[..]\nhttps://pocld.org/events/didgeridoo-down-under-3/
URL:https://pocld.org/events/didgeridoo-down-under-3/
END:VEVENT
END:VCALENDAR