BEGIN:VCALENDAR
VERSION:2.0
PRODID:-//eventon.com NONSGML v1.0//EN
CALSCALE:GREGORIAN
METHOD:PUBLISH
BEGIN:VEVENT
UID:69e735d66907a
DTSTAMP:20260421T083118Z
DTSTART:20240702T120000Z
DTEND:20240702T235900Z
LOCATION:Usk Community Hall 2442 Black Rd.
SUMMARY:Citizen Science Bug Walk @ The Usk Community Hall
DESCRIPTION:Bug stories followed by a bug scavenger hunt and crafts. If you
  have a cell phone you may want to find the micro setting prior to the even
 t for taking photos. We will have devices for picture taking available as w
 ell.\nhttps://pocld.org/events/citizen-science-bug-walk-the-usk-community-h
 all/
URL:https://pocld.org/events/citizen-science-bug-walk-the-usk-community-hall/
END:VEVENT
END:VCALENDAR