BEGIN:VCALENDAR
VERSION:2.0
PRODID:-//eventon.com NONSGML v1.0//EN
CALSCALE:GREGORIAN
METHOD:PUBLISH
BEGIN:VEVENT
UID:69e578462bcf9
DTSTAMP:20260420T005014Z
DTSTART:20240607T123000Z
DTEND:20240607T133000Z
LOCATION:Calispel Valley Library 107 S 1st Ave Cusick\,  WA 99119
SUMMARY:Summer Advisory Board
DESCRIPTION:Meet with others ages 10+ to suggest library books &amp; movies
  as well as test games and plan events for tweens and teens. See the librar
 y staff to sign up. You can email maria@pocld.org\,  call 800-366-3654 ex 2
  or drop by in person.\nhttps://pocld.org/events/summer-advisory-board/
URL:https://pocld.org/events/summer-advisory-board/
END:VEVENT
END:VCALENDAR