BEGIN:VCALENDAR
VERSION:2.0
PRODID:-//eventon.com NONSGML v1.0//EN
CALSCALE:GREGORIAN
METHOD:PUBLISH
BEGIN:VEVENT
UID:69eac270b8fe2
DTSTAMP:20260424T010800Z
DTSTART:20240723T130000Z
DTEND:20240723T140000Z
LOCATION:Calispel Valley Library 107 S 1st Ave Cusick\,  WA 99119
SUMMARY:Jenks! (new location as of 7/22/24)
DESCRIPTION:**Please note that this event will be held in the Cusick Commun
 ity Center; you can enter through the library. Jenks is a high-energy musi
 c and juggling act! Jenks original kids songs cover a wide variety of top
 ics\,  from dinosaurs to sunburns\,  dolphins to sleepwalking. Dance-along 
 songs let kids showcase their coolest moves\,  and[..]\nhttps://pocld.org/e
 vents/jenks-2/
URL:https://pocld.org/events/jenks-2/
END:VEVENT
END:VCALENDAR