BEGIN:VCALENDAR
VERSION:2.0
PRODID:-//eventon.com NONSGML v1.0//EN
CALSCALE:GREGORIAN
METHOD:PUBLISH
BEGIN:VEVENT
UID:69e9dddb6a6f7
DTSTAMP:20260423T085243Z
DTSTART:20241009T153000Z
DTEND:20241009T173000Z
LOCATION:Newport Branch Library 116 S Washington Ave\,  Newport\,  WA 99156
SUMMARY:Anime Adventures
DESCRIPTION:Welcome to Anime Adventures! Join us for an exciting journey in
 to the colorful and action-packed world of anime. Whether you&#8217;re a se
 asoned anime fan or just curious\,  this club is the perfect place to explo
 re your favorite shows\,  discover new ones\,  and make friends who share y
 our interests.\nhttps://pocld.org/events/anime-adventures/var/ri-5.l-L1
URL:https://pocld.org/events/anime-adventures/var/ri-5.l-L1
END:VEVENT
END:VCALENDAR