BEGIN:VCALENDAR
VERSION:2.0
PRODID:-//eventon.com NONSGML v1.0//EN
CALSCALE:GREGORIAN
METHOD:PUBLISH
BEGIN:VEVENT
UID:69ec97e38aab3
DTSTAMP:20260425T103059Z
DTSTART:20240926T163000Z
DTEND:20240926T173000Z
LOCATION:Ione Branch Library 210 Blackwell St\,  Ione\,  WA 99139
SUMMARY:Craft Hour
DESCRIPTION:We will be making confetti bookmarks!\nhttps://pocld.org/events
 /craft-hour/
URL:https://pocld.org/events/craft-hour/
END:VEVENT
END:VCALENDAR