BEGIN:VCALENDAR
VERSION:2.0
PRODID:-//eventon.com NONSGML v1.0//EN
CALSCALE:GREGORIAN
METHOD:PUBLISH
BEGIN:VEVENT
UID:69e51b024d0f5
DTSTAMP:20260419T181218Z
DTSTART:20241115T130000Z
DTEND:20241115T140000Z
LOCATION:Ione Branch Library 210 Blackwell St\,  Ione\,  WA 99139
SUMMARY:Digital Literacy
DESCRIPTION:Are you looking for help navigating the internet\,  learning ho
 w to upload or download pictures or documents\,  how to spot a scam or even
  just learn how to unsubscribe from unwanted email? Join us for our Digital
  Literacy Class where we will take the time to go through any questions[..]
 \nhttps://pocld.org/events/digital-literacy-10/
URL:https://pocld.org/events/digital-literacy-10/
END:VEVENT
END:VCALENDAR