BEGIN:VCALENDAR
VERSION:2.0
PRODID:-//eventon.com NONSGML v1.0//EN
CALSCALE:GREGORIAN
METHOD:PUBLISH
BEGIN:VEVENT
UID:69e739dd28ff2
DTSTAMP:20260421T084829Z
DTSTART:20241031T220000Z
DTEND:20241101T000000Z
LOCATION:Newport Branch Library 116 S Washington Ave\,  Newport\,  WA 99156
SUMMARY:Newport Trick-or-Treat
DESCRIPTION:Make sure you stop by to see our costumes and get some candy!\n
 https://pocld.org/events/newport-trick-or-treat-2/
URL:https://pocld.org/events/newport-trick-or-treat-2/
END:VEVENT
END:VCALENDAR