BEGIN:VCALENDAR
VERSION:2.0
PRODID:-//eventon.com NONSGML v1.0//EN
CALSCALE:GREGORIAN
METHOD:PUBLISH
BEGIN:VEVENT
UID:69e73a5aabd99
DTSTAMP:20260421T085034Z
DTSTART:20241001T180000Z
DTEND:20241001T193000Z
LOCATION:Create Arts Center 900 4th St.
SUMMARY:And It Has Pockets! The Battle for Women's Clothing Equality
DESCRIPTION:How many times have you heard someone wearing women&#8217;s clo
 thing exclaim\,  &#8220;And it has pockets!&#8221; Comparisons have shown t
 hat modern garments designed for women have about half the storage space of
  clothing designed for men. From their invention\,  pockets in women&#8217;
 s fashion have represented independence &#8211; so much so that[..]\nhttps:
 //pocld.org/events/and-it-has-pockets-the-battle-for-womens-clothing-equali
 ty/
URL:https://pocld.org/events/and-it-has-pockets-the-battle-for-womens-clothing-equality/
END:VEVENT
END:VCALENDAR