BEGIN:VCALENDAR
VERSION:2.0
PRODID:-//eventon.com NONSGML v1.0//EN
CALSCALE:GREGORIAN
METHOD:PUBLISH
BEGIN:VEVENT
UID:69e9ddf3b3463
DTSTAMP:20260423T085307Z
DTSTART:20241113T160000Z
DTEND:20241113T235900Z
LOCATION:Calispel Valley Library 107 S 1st Ave Cusick\,  WA 99119
SUMMARY:Chess Club
DESCRIPTION:We will be using the storytime chess kits with younger kids and
  learning one piece at a time. All ages and skill levels are welcome.\nhttp
 s://pocld.org/events/chess-club-9/
URL:https://pocld.org/events/chess-club-9/
END:VEVENT
END:VCALENDAR