BEGIN:VCALENDAR
VERSION:2.0
PRODID:-//eventon.com NONSGML v1.0//EN
CALSCALE:GREGORIAN
METHOD:PUBLISH
BEGIN:VEVENT
UID:69e6acace1fe7
DTSTAMP:20260420T224604Z
DTSTART:20241209T160000Z
DTEND:20241209T170000Z
LOCATION:Metalines Community Library 302 Park St\,  Metaline Falls\,  WA 99153
SUMMARY:Craft Hour
DESCRIPTION:We will be making mushroom ornaments!\nhttps://pocld.org/events
 /craft-hour-7/
URL:https://pocld.org/events/craft-hour-7/
END:VEVENT
END:VCALENDAR