BEGIN:VCALENDAR
VERSION:2.0
PRODID:-//eventon.com NONSGML v1.0//EN
CALSCALE:GREGORIAN
METHOD:PUBLISH
BEGIN:VEVENT
UID:69eac0df0dd4c
DTSTAMP:20260424T010119Z
DTSTART:20250122T160000Z
DTEND:20250122T170000Z
LOCATION:Metalines Community Library 302 Park St\,  Metaline Falls\,  WA 99153
SUMMARY:Teen Hangout
DESCRIPTION:Come hang out at the library\,  have some snacks and work on a 
 craft project! We will be making garland with felt bees\,  flowers\,  heart
 s and other decorations.\nhttps://pocld.org/events/teen-hangout-2/
URL:https://pocld.org/events/teen-hangout-2/
END:VEVENT
END:VCALENDAR