BEGIN:VCALENDAR
VERSION:2.0
PRODID:-//eventon.com NONSGML v1.0//EN
CALSCALE:GREGORIAN
METHOD:PUBLISH
BEGIN:VEVENT
UID:69e7825f6bcc0
DTSTAMP:20260421T135751Z
DTSTART:20250116T163000Z
DTEND:20250116T173000Z
LOCATION:Ione Branch Library 210 Blackwell St\,  Ione\,  WA 99139
SUMMARY:Craft Hour
DESCRIPTION:We will be making lanterns!\nhttps://pocld.org/events/craft-hou
 r-9/
URL:https://pocld.org/events/craft-hour-9/
END:VEVENT
END:VCALENDAR