BEGIN:VCALENDAR
VERSION:2.0
PRODID:-//eventon.com NONSGML v1.0//EN
CALSCALE:GREGORIAN
METHOD:PUBLISH
BEGIN:VEVENT
UID:69e806386c14e
DTSTAMP:20260421T232024Z
DTSTART:20250131T110000Z
DTEND:20250131T123000Z
LOCATION:Calispel Valley Library 107 S 1st Ave Cusick\,  WA 99119
SUMMARY:All Ages Storytime
DESCRIPTION:Join us for a short story followed by crafts\,  games and build
 ing.  Beat the winter blues.  We have different crafts\,  blocks\,  legos
 \,  sensory bins\,  marble run\,  puppets and STEAM toys each week. This is
  a parent supervised activity. Kids under 8 must have an adult supervising 
 them during this activity.[..]\nhttps://pocld.org/events/all-ages-storytime
 -2/var/ri-6.l-L1
URL:https://pocld.org/events/all-ages-storytime-2/var/ri-6.l-L1
END:VEVENT
END:VCALENDAR