BEGIN:VCALENDAR
VERSION:2.0
PRODID:-//eventon.com NONSGML v1.0//EN
CALSCALE:GREGORIAN
METHOD:PUBLISH
BEGIN:VEVENT
UID:69ec9cb860176
DTSTAMP:20260425T105136Z
DTSTART:20241203T100000Z
DTEND:20241203T170000Z
LOCATION:Calispel Valley Library 107 S 1st Ave Cusick\,  WA 99119
SUMMARY:Elf on the Shelf
DESCRIPTION:He’s baaaaaack! December 1st-21st: Each day find the elf and 
 enter the drawing. 1 entry per person per day. Prizes will be posted in the
  library on Thursday\,  January 2nd.\nhttps://pocld.org/events/elf-on-the-s
 helf/
URL:https://pocld.org/events/elf-on-the-shelf/
END:VEVENT
END:VCALENDAR