BEGIN:VCALENDAR
VERSION:2.0
PRODID:-//eventon.com NONSGML v1.0//EN
CALSCALE:GREGORIAN
METHOD:PUBLISH
BEGIN:VEVENT
UID:69e9dc80953e0
DTSTAMP:20260423T084656Z
DTSTART:20250520T170000Z
DTEND:20250520T180000Z
LOCATION:Newport Branch Library 116 S Washington Ave\,  Newport\,  WA 99156
SUMMARY:Storytime
DESCRIPTION:Join us at the Newport Public Library for stories\,  rhymes\,  
 songs and play while we learn and explore new topics!\nhttps://pocld.org/ev
 ents/storytime-247/var/ri-36.l-L1
URL:https://pocld.org/events/storytime-247/var/ri-36.l-L1
END:VEVENT
END:VCALENDAR