BEGIN:VCALENDAR
VERSION:2.0
PRODID:-//eventon.com NONSGML v1.0//EN
CALSCALE:GREGORIAN
METHOD:PUBLISH
BEGIN:VEVENT
UID:69e72ffabd832
DTSTAMP:20260421T080618Z
DTSTART:20250115T130000Z
DTEND:20250115T140000Z
LOCATION:Newport Branch Library 116 S Washington Ave\,  Newport\,  WA 99156
SUMMARY:Sewing Circle: Community Quilt
DESCRIPTION:Come together at the library to hand stitch a community quilt. 
 Bring your own supplies or use ours to create something gorgeous to display
 .\nhttps://pocld.org/events/sewing-circle-community-quilt-2/
URL:https://pocld.org/events/sewing-circle-community-quilt-2/
END:VEVENT
END:VCALENDAR