BEGIN:VCALENDAR
VERSION:2.0
PRODID:-//eventon.com NONSGML v1.0//EN
CALSCALE:GREGORIAN
METHOD:PUBLISH
BEGIN:VEVENT
UID:69eb2e1cb1a59
DTSTAMP:20260424T084724Z
DTSTART:20250220T210000Z
DTEND:20250221T075900Z
LOCATION:Calispel Valley Library 107 S 1st Ave Cusick\,  WA 99119
SUMMARY:Loosely Knit
DESCRIPTION:Bring your knitting\,  crochet and fiber arts and join us for c
 offee\,  tea and great company.\nhttps://pocld.org/events/loosely-knit-2/va
 r/ri-11.l-L1
URL:https://pocld.org/events/loosely-knit-2/var/ri-11.l-L1
END:VEVENT
END:VCALENDAR