BEGIN:VCALENDAR
VERSION:2.0
PRODID:-//eventon.com NONSGML v1.0//EN
CALSCALE:GREGORIAN
METHOD:PUBLISH
BEGIN:VEVENT
UID:69e73a3d2db91
DTSTAMP:20260421T085005Z
DTSTART:20250102T130000Z
DTEND:20250102T140000Z
LOCATION:Calispel Valley Library 107 S 1st Ave Cusick\,  WA 99119
SUMMARY:Beginners Crochet Class
DESCRIPTION:⭐New! Thursdays @ 1-2 during Loosely Knit. Our crochet teache
 r can instruct right or left handed and has created many of the crochet cha
 racters you see in the craft room. Start at the very basics and learn at yo
 ur own speed. We provide the supplies to start with. Registration is[..]\nh
 ttps://pocld.org/events/beginners-crochet-class/var/ri-9.l-L1
URL:https://pocld.org/events/beginners-crochet-class/var/ri-9.l-L1
END:VEVENT
END:VCALENDAR