BEGIN:VCALENDAR
VERSION:2.0
PRODID:-//eventon.com NONSGML v1.0//EN
CALSCALE:GREGORIAN
METHOD:PUBLISH
BEGIN:VEVENT
UID:69e9dec6172c7
DTSTAMP:20260423T085638Z
DTSTART:20251128T000000Z
DTEND:20251128T030000Z
LOCATION:Newport Branch Library 116 S Washington Ave\,  Newport\,  WA 99156
SUMMARY:Dungeons and Dragons\,  5th Edition
DESCRIPTION:Join our D&amp;D game!\nhttps://pocld.org/events/dungeons-and-d
 ragons-5th-edition-6/var/ri-20.l-L1
URL:https://pocld.org/events/dungeons-and-dragons-5th-edition-6/var/ri-20.l-L1
END:VEVENT
END:VCALENDAR