BEGIN:VCALENDAR
VERSION:2.0
PRODID:-//eventon.com NONSGML v1.0//EN
CALSCALE:GREGORIAN
METHOD:PUBLISH
BEGIN:VEVENT
UID:69e64739abe8f
DTSTAMP:20260420T153313Z
DTSTART:20250307T110000Z
DTEND:20250307T120000Z
LOCATION:Ione Branch Library 210 Blackwell St\,  Ione\,  WA 99139
SUMMARY:Storytime
DESCRIPTION:Children and their families are invited to enjoy a story and th
 en do a craft\,  play games or color! In March\,  we&#8217;ll paint rocks\,
   make a rainbow craft to find our pot of gold for St. Patrick&#8217;s Day\
 ,  make a wooden life raft to save a little marshmallow man and[..]\nhttps:
 //pocld.org/events/storytime-260/
URL:https://pocld.org/events/storytime-260/
END:VEVENT
END:VCALENDAR