BEGIN:VCALENDAR
VERSION:2.0
PRODID:-//eventon.com NONSGML v1.0//EN
CALSCALE:GREGORIAN
METHOD:PUBLISH
BEGIN:VEVENT
UID:69eb2cd628101
DTSTAMP:20260424T084158Z
DTSTART:20250325T100000Z
DTEND:20250325T235900Z
LOCATION:Camas Center For Community Wellness · 1821 N. LeClerc Rd #5 Cusick\,  WA 99119
SUMMARY:Senior Scam Shield: Spot and Stop Fraud
DESCRIPTION:This information session is designed to help seniors recognize 
 and avoid modern scams. From Phone and online fraud to financial and identi
 ty theft schemes\,  this class will cover the latest tactics used by scamme
 rs and provide practical tips to stay safe. Learn how identify red flags\, 
  protect your personal information[..]\nhttps://pocld.org/events/senior-sca
 m-shield-spot-and-stop-fraud/
URL:https://pocld.org/events/senior-scam-shield-spot-and-stop-fraud/
END:VEVENT
END:VCALENDAR